BEGIN:VCALENDAR
VERSION:2.0
PRODID:-//Downtown Hyde Park Chicago - ECPv6.15.20//NONSGML v1.0//EN
CALSCALE:GREGORIAN
METHOD:PUBLISH
X-ORIGINAL-URL:https://downtownhydeparkchicago.com
X-WR-CALDESC:Events for Downtown Hyde Park Chicago
REFRESH-INTERVAL;VALUE=DURATION:PT1H
X-Robots-Tag:noindex
X-PUBLISHED-TTL:PT1H
BEGIN:VTIMEZONE
TZID:America/Chicago
BEGIN:DAYLIGHT
TZOFFSETFROM:-0600
TZOFFSETTO:-0500
TZNAME:CDT
DTSTART:20240310T080000
END:DAYLIGHT
BEGIN:STANDARD
TZOFFSETFROM:-0500
TZOFFSETTO:-0600
TZNAME:CST
DTSTART:20241103T070000
END:STANDARD
BEGIN:DAYLIGHT
TZOFFSETFROM:-0600
TZOFFSETTO:-0500
TZNAME:CDT
DTSTART:20250309T080000
END:DAYLIGHT
BEGIN:STANDARD
TZOFFSETFROM:-0500
TZOFFSETTO:-0600
TZNAME:CST
DTSTART:20251102T070000
END:STANDARD
BEGIN:DAYLIGHT
TZOFFSETFROM:-0600
TZOFFSETTO:-0500
TZNAME:CDT
DTSTART:20260308T080000
END:DAYLIGHT
BEGIN:STANDARD
TZOFFSETFROM:-0500
TZOFFSETTO:-0600
TZNAME:CST
DTSTART:20261101T070000
END:STANDARD
END:VTIMEZONE
BEGIN:VEVENT
DTSTART;TZID=America/Chicago:20251206T100000
DTEND;TZID=America/Chicago:20251206T140000
DTSTAMP:20260421T130715
CREATED:20251123T193843Z
LAST-MODIFIED:20251123T193843Z
UID:10780-1765015200-1765029600@downtownhydeparkchicago.com
SUMMARY:2025 Hyde Park Holly-Day
DESCRIPTION:Sponsored by the University of Chicago in partnership with Downtown Hyde Park\, the South East Chicago Commission\, and the Hyde Park Chamber of Commerce\, Hyde Park Holly-Day is back for 2025 with FREE holiday family activities throughout Hyde Park on Saturday\, December 6 at select times between 10 a.m. – 2 p.m.⁠\n⁠\nDon’t miss the ice carving demo & self-guided sculpture stroll\, pictures with your favorite Santas\, live reindeer & sleigh\, free screening of “Zootopia 2”\, Buddy the Elf\, costumed characters\, dance performances\, and holiday crafts. See you in Hyde Park!⁠
URL:https://downtownhydeparkchicago.com/event/2025-hyde-park-holly-day/
LOCATION:The Promontory\, 5311 S Lake Park Ave West\, Chicago\, IL\, 60615\, United States
CATEGORIES:Events
ATTACH;FMTTYPE=image/jpeg:https://downtownhydeparkchicago.com/wp-content/uploads/2025/11/Holly-Day-Ice-sculptures.jpg
END:VEVENT
BEGIN:VEVENT
DTSTART;TZID=America/Chicago:20251209T110000
DTEND;TZID=America/Chicago:20251209T123000
DTSTAMP:20260421T130715
CREATED:20251205T010420Z
LAST-MODIFIED:20251205T010713Z
UID:10788-1765278000-1765283400@downtownhydeparkchicago.com
SUMMARY:SSA61 Commissioners Meeting - December 2025
DESCRIPTION:~ Public Notice ~\n\n\nSpecial Service Area 61 – Hyde Park (SSA61) will host its monthly Commissioners meeting\non Tuesday\, December 9\, 2025 at Polsky Exchange North\, 2nd Floor. \n1452 E. 53rd St.\nChicago\, IL 60615\n(Location is subject to change). \n\n\nDownload the Agenda  \n  \n———–
URL:https://downtownhydeparkchicago.com/event/ssa61-commissioners-meeting-december-2025/
LOCATION:Polsky Center\, 1452 E. 53rd St.\, Chicago\, IL\, 60615\, United States
CATEGORIES:Commissioners Meetings
ATTACH;FMTTYPE=image/png:https://downtownhydeparkchicago.com/wp-content/uploads/2024/04/ssa61-commissioners-meeting-web.png
END:VEVENT
BEGIN:VEVENT
DTSTART;TZID=America/Chicago:20251220T090000
DTEND;TZID=America/Chicago:20251220T140000
DTSTAMP:20260421T130715
CREATED:20251123T191437Z
LAST-MODIFIED:20251123T191437Z
UID:10777-1766221200-1766239200@downtownhydeparkchicago.com
SUMMARY:HPFM Holiday Market 2025
DESCRIPTION:On Saturday\, December 20\, 2025\, Chicago’s Hyde Park Farmers Market (HPFM) will host a day of shopping at The Promontory (5311 S Lake Park Ave W)\, offering a festive indoor experience from 9 a.m. to 2 p.m.\nShop locally this season and explore a range of unique holiday gifts\, including packaged goods\, original art\, jewelry\, wellness products\, holiday stationery\, and custom gift baskets—perfect for seasonal shopping.
URL:https://downtownhydeparkchicago.com/event/hpfm-holiday-market-2025/
LOCATION:The Promontory\, 5311 S Lake Park Ave West\, Chicago\, IL\, 60615\, United States
CATEGORIES:Farmers Market
ATTACH;FMTTYPE=image/jpeg:https://downtownhydeparkchicago.com/wp-content/uploads/2025/11/008-HolidayMarketSECC2024-SNY00685-Enhanced-NR.jpg
END:VEVENT
END:VCALENDAR