BEGIN:VCALENDAR
VERSION:2.0
PRODID:-//Downtown Hyde Park Chicago - ECPv6.15.20//NONSGML v1.0//EN
CALSCALE:GREGORIAN
METHOD:PUBLISH
X-ORIGINAL-URL:https://downtownhydeparkchicago.com
X-WR-CALDESC:Events for Downtown Hyde Park Chicago
REFRESH-INTERVAL;VALUE=DURATION:PT1H
X-Robots-Tag:noindex
X-PUBLISHED-TTL:PT1H
BEGIN:VTIMEZONE
TZID:America/Chicago
BEGIN:DAYLIGHT
TZOFFSETFROM:-0600
TZOFFSETTO:-0500
TZNAME:CDT
DTSTART:20230312T080000
END:DAYLIGHT
BEGIN:STANDARD
TZOFFSETFROM:-0500
TZOFFSETTO:-0600
TZNAME:CST
DTSTART:20231105T070000
END:STANDARD
BEGIN:DAYLIGHT
TZOFFSETFROM:-0600
TZOFFSETTO:-0500
TZNAME:CDT
DTSTART:20240310T080000
END:DAYLIGHT
BEGIN:STANDARD
TZOFFSETFROM:-0500
TZOFFSETTO:-0600
TZNAME:CST
DTSTART:20241103T070000
END:STANDARD
BEGIN:DAYLIGHT
TZOFFSETFROM:-0600
TZOFFSETTO:-0500
TZNAME:CDT
DTSTART:20250309T080000
END:DAYLIGHT
BEGIN:STANDARD
TZOFFSETFROM:-0500
TZOFFSETTO:-0600
TZNAME:CST
DTSTART:20251102T070000
END:STANDARD
END:VTIMEZONE
BEGIN:VEVENT
DTSTART;TZID=America/Chicago:20241005T080000
DTEND;TZID=America/Chicago:20241005T120000
DTSTAMP:20260422T061118
CREATED:20240624T161446Z
LAST-MODIFIED:20240624T161524Z
UID:9937-1728115200-1728129600@downtownhydeparkchicago.com
SUMMARY:Southside Connection Symposium 2024
DESCRIPTION:South East Chicago Commission presents\nThe 2024 Southside Connection Symposium \nUniting Ideas\, Fueling the Future\nSaturday\nOctober 5\, 2024\n8 am – 12 pm\n\nPlease save the date. Details to come.\n\n————————————————
URL:https://downtownhydeparkchicago.com/event/southside-connection-symposium-2024/
LOCATION:IL
CATEGORIES:Community Education
ATTACH;FMTTYPE=image/jpeg:https://downtownhydeparkchicago.com/wp-content/uploads/2024/06/165-SECC-2023SSSymposium-SNY09798v3.jpg
END:VEVENT
BEGIN:VEVENT
DTSTART;TZID=America/Chicago:20241022T110000
DTEND;TZID=America/Chicago:20241022T120000
DTSTAMP:20260422T061118
CREATED:20241018T004650Z
LAST-MODIFIED:20241018T004650Z
UID:10124-1729594800-1729598400@downtownhydeparkchicago.com
SUMMARY:SSA61 Commissioners Meeting - October 2024
DESCRIPTION:~ Public Notice ~ \nSpecial Service Area 61 – Hyde Park (SSA61) will host a special Commissioners meeting at 11:00 am on Tuesday\, October 22\, 2024.\nThe meeting will be held at Polsky Exchange North\, 2nd Floor \n1452 E. 53rd St.\nChicago\, IL 60615 \n(Location is subject to change). \nDownload the agenda or click for additional details about future meetings. \n—————–
URL:https://downtownhydeparkchicago.com/event/ssa61-commissioners-meeting-october-2024/
LOCATION:Polsky Center\, 1452 E. 53rd St.\, Chicago\, IL\, 60615\, United States
CATEGORIES:Commissioners Meetings
ATTACH;FMTTYPE=image/png:https://downtownhydeparkchicago.com/wp-content/uploads/2024/04/ssa61-commissioners-meeting-web.png
END:VEVENT
BEGIN:VEVENT
DTSTART;TZID=America/Chicago:20241027T130000
DTEND;TZID=America/Chicago:20241027T160000
DTSTAMP:20260422T061118
CREATED:20241018T003537Z
LAST-MODIFIED:20241018T005428Z
UID:10119-1730034000-1730044800@downtownhydeparkchicago.com
SUMMARY:Pumpkins in the Park 2024
DESCRIPTION:‘Pumpkins in the Park’ returns to Nichols Park on Sunday\, October 27\, 2024 from 1 PM to 4PM. Pumpkin decorating\, crafts\, music\, spooky stories and other activities will celebrate autumn & Halloween.\n 
URL:https://downtownhydeparkchicago.com/event/pumpkins-in-the-park-2024/
LOCATION:Nichols Park\, 1355 E 53rd St\, Chicago\, IL\, 60615\, United States
CATEGORIES:Social Event
ATTACH;FMTTYPE=image/jpeg:https://downtownhydeparkchicago.com/wp-content/uploads/2024/10/2012oktbrfst-0928.jpg
END:VEVENT
END:VCALENDAR