BEGIN:VCALENDAR
VERSION:2.0
PRODID:-//Downtown Hyde Park Chicago - ECPv6.15.20//NONSGML v1.0//EN
CALSCALE:GREGORIAN
METHOD:PUBLISH
X-ORIGINAL-URL:https://downtownhydeparkchicago.com
X-WR-CALDESC:Events for Downtown Hyde Park Chicago
REFRESH-INTERVAL;VALUE=DURATION:PT1H
X-Robots-Tag:noindex
X-PUBLISHED-TTL:PT1H
BEGIN:VTIMEZONE
TZID:America/Chicago
BEGIN:DAYLIGHT
TZOFFSETFROM:-0600
TZOFFSETTO:-0500
TZNAME:CDT
DTSTART:20220313T080000
END:DAYLIGHT
BEGIN:STANDARD
TZOFFSETFROM:-0500
TZOFFSETTO:-0600
TZNAME:CST
DTSTART:20221106T070000
END:STANDARD
BEGIN:DAYLIGHT
TZOFFSETFROM:-0600
TZOFFSETTO:-0500
TZNAME:CDT
DTSTART:20230312T080000
END:DAYLIGHT
BEGIN:STANDARD
TZOFFSETFROM:-0500
TZOFFSETTO:-0600
TZNAME:CST
DTSTART:20231105T070000
END:STANDARD
BEGIN:DAYLIGHT
TZOFFSETFROM:-0600
TZOFFSETTO:-0500
TZNAME:CDT
DTSTART:20240310T080000
END:DAYLIGHT
BEGIN:STANDARD
TZOFFSETFROM:-0500
TZOFFSETTO:-0600
TZNAME:CST
DTSTART:20241103T070000
END:STANDARD
END:VTIMEZONE
BEGIN:VEVENT
DTSTART;TZID=America/Chicago:20231202T090000
DTEND;TZID=America/Chicago:20231202T150000
DTSTAMP:20260422T155240
CREATED:20231024T022400Z
LAST-MODIFIED:20231122T180809Z
UID:9563-1701507600-1701529200@downtownhydeparkchicago.com
SUMMARY:2023 Hyde Park Holly-Day
DESCRIPTION:Local holiday tradition Hyde Park Holly-Day is back for its sixth year\, scheduled for Saturday\, December 2\, 2023. \nSponsored by the University of Chicago and hosted by Jenny LeFlore – Mama Fresh Chicago\, Hyde Park Holly-Day is a beautiful celebration of holiday spirit. Enjoy FREE family activities throughout Hyde Park including an ice carving demo\, self-guided ice sculpture stroll\, pictures with Soul Santa & Mrs. Claus\, holiday crafts\, costumed character meet and greets\, dance performances by the Hyde Park School of Dance and Kenwood School of Ballet\, Buddy the Elf\, and even two live reindeer with a sleigh!  \nFree holiday books while supplies last from Brown Books & Paintbrushes.  \nSpend the day in downtown Hyde Park and enjoy a full schedule of fun\, free family activities sponsored by the University of Chicago in partnership with Downtown Hyde Park\, the Hyde Park Chamber of Commerce\, and the South East Chicago Commission. \nPlease visit the Holly-Day website for schedule of activities and experiences. \n 
URL:https://downtownhydeparkchicago.com/event/2023-hyde-park-holly-day/
LOCATION:IL
ATTACH;FMTTYPE=image/jpeg:https://downtownhydeparkchicago.com/wp-content/uploads/2023/10/hp_holly-day2019-families.jpg
END:VEVENT
BEGIN:VEVENT
DTSTART;TZID=America/Chicago:20231209T090000
DTEND;TZID=America/Chicago:20231209T140000
DTSTAMP:20260422T155240
CREATED:20231019T180150Z
LAST-MODIFIED:20231115T192247Z
UID:9547-1702112400-1702130400@downtownhydeparkchicago.com
SUMMARY:HPFM Holiday Market - December 2023
DESCRIPTION:View Details
URL:https://downtownhydeparkchicago.com/event/hpfm-holiday-market-december-2023/
LOCATION:The Promontory\, 5311 S Lake Park Ave West\, Chicago\, IL\, 60615\, United States
ATTACH;FMTTYPE=image/jpeg:https://downtownhydeparkchicago.com/wp-content/uploads/2023/10/HPFM_Holidays_0750.jpg
END:VEVENT
END:VCALENDAR