BEGIN:VCALENDAR
VERSION:2.0
PRODID:-//Downtown Hyde Park Chicago - ECPv6.15.20//NONSGML v1.0//EN
CALSCALE:GREGORIAN
METHOD:PUBLISH
X-WR-CALNAME:Downtown Hyde Park Chicago
X-ORIGINAL-URL:https://downtownhydeparkchicago.com
X-WR-CALDESC:Events for Downtown Hyde Park Chicago
REFRESH-INTERVAL;VALUE=DURATION:PT1H
X-Robots-Tag:noindex
X-PUBLISHED-TTL:PT1H
BEGIN:VTIMEZONE
TZID:America/Chicago
BEGIN:DAYLIGHT
TZOFFSETFROM:-0600
TZOFFSETTO:-0500
TZNAME:CDT
DTSTART:20220313T080000
END:DAYLIGHT
BEGIN:STANDARD
TZOFFSETFROM:-0500
TZOFFSETTO:-0600
TZNAME:CST
DTSTART:20221106T070000
END:STANDARD
BEGIN:DAYLIGHT
TZOFFSETFROM:-0600
TZOFFSETTO:-0500
TZNAME:CDT
DTSTART:20230312T080000
END:DAYLIGHT
BEGIN:STANDARD
TZOFFSETFROM:-0500
TZOFFSETTO:-0600
TZNAME:CST
DTSTART:20231105T070000
END:STANDARD
BEGIN:DAYLIGHT
TZOFFSETFROM:-0600
TZOFFSETTO:-0500
TZNAME:CDT
DTSTART:20240310T080000
END:DAYLIGHT
BEGIN:STANDARD
TZOFFSETFROM:-0500
TZOFFSETTO:-0600
TZNAME:CST
DTSTART:20241103T070000
END:STANDARD
END:VTIMEZONE
BEGIN:VEVENT
DTSTART;TZID=America/Chicago:20230601T180000
DTEND;TZID=America/Chicago:20230601T210000
DTSTAMP:20260423T171006
CREATED:20230524T165111Z
LAST-MODIFIED:20230524T171554Z
UID:9060-1685642400-1685653200@downtownhydeparkchicago.com
SUMMARY:Harper Court Summer Music Series - June 2023
DESCRIPTION:Harper Court Summer Music Series is a set of free outdoor concerts sponsored by the University of Chicago on first Thursday evening June\, July and August.  The 2023 music series\, hosted by Mario Smith\, kicks of with a performance by Jeremiah Collier and THE REUP BAND on June 1 from 6:00 – 9:00 pm.\n  \nHarper Court\, 5235 S. Harper Court\nHyde Park (53rd Street and S. Lake Park Avenue)\nwww.harpercourtmusic.com.\n\n——————————————————\n\nParking – Paid parking is available in the Harper Court garage (entrance on S. Lake Park Avenue just south of McDonald’s) or in the surface lot on S. Harper Avenue. Paid street parking is also available. We encourage you to take public transportation or carpool.\n  \nSeating – Seating is not provided – please bring folding chairs\, but remember to leave lots of room from dancing!\n  \nDining – Enjoy Bob’s Pizza\, Chipotle\, Daisy’s Po-Boy & Tavern\, Deep Purpl\, Ja’ Grill\, Jade Court\, Roti Modern Mediterranean\, Stan’s Donuts & Coffee – all in Harper Court. Or sample one of the many great eateries on 53rd Street.\n  \nShop Local – Support our neighborhood businesses by shopping local. Recycled Modern and Suuri Design are in Harper Court\, and The Silver Room and other shops are right around the corner.
URL:https://downtownhydeparkchicago.com/event/harper-court-summer-music-series-june-2023/
LOCATION:Harper Court\, 5235 S. Harper Court\, Chicago\, IL\, 60615\, United States
ATTACH;FMTTYPE=image/webp:https://downtownhydeparkchicago.com/wp-content/uploads/2023/05/michael-collier-REUP-BAND.webp
END:VEVENT
BEGIN:VEVENT
DTSTART;TZID=America/Chicago:20230602T120000
DTEND;TZID=America/Chicago:20230602T143000
DTSTAMP:20260423T171006
CREATED:20230524T172833Z
LAST-MODIFIED:20230524T173409Z
UID:9074-1685707200-1685716200@downtownhydeparkchicago.com
SUMMARY:Jazz in the Court 2023 - June 2
DESCRIPTION:Jazz in the Court\, sponsored by University of Chicago\, delivers a beautiful daytime outdoor concert experience from 12:00 pm – 2:30pm on the first Friday of June\, July and August 2023. \nJoe Marcinek  will perform on June 2 from 12:00 – 2:30 pm.. The Joe Marcinek Band is an experience you will never forget. That’s because each show features a different lineup of musicians creating a different set of music for every engagement. The music is equal parts Chicago Blues\, New Orleans Funk\, Grateful Dead Psychedelia\, and Jazz Fusion! \n  \nHarper Court\, 5235 S. Harper Court\nHyde Park (53rd Street and S. Lake Park Avenue)\nwww.hpjazz.com\n\n\n——————————————————\n\nParking – Paid parking is available in the Harper Court garage (entrance on S. Lake Park Avenue just south of McDonald’s) or in the surface lot on S. Harper Avenue. Paid street parking is also available. We encourage you to take public transportation or carpool.\n  \nSeating – Seating is not provided – please bring folding chairs\, but remember to leave lots of room from dancing!\n  \nDining – Enjoy Bob’s Pizza\, Chipotle\, Daisy’s Po-Boy & Tavern\, Deep Purpl\, Ja’ Grill\, Jade Court\, Roti Modern Mediterranean\, Stan’s Donuts & Coffee – all in Harper Court. Or sample one of the many great eateries on 53rd Street.\n  \nShop Local – Support our neighborhood businesses by shopping local. Recycled Modern and Suuri Design are in Harper Court\, and The Silver Room and other shops are right around the corner.
URL:https://downtownhydeparkchicago.com/event/jazz-in-the-court-2023-june-2/
LOCATION:Harper Court\, 5235 S. Harper Court\, Chicago\, IL\, 60615\, United States
ATTACH;FMTTYPE=image/png:https://downtownhydeparkchicago.com/wp-content/uploads/2023/05/2023HPJazz-in-the-Court-1600x900-Joe-Marcinek.png
END:VEVENT
BEGIN:VEVENT
DTSTART;TZID=America/Chicago:20230604T090000
DTEND;TZID=America/Chicago:20230604T140000
DTSTAMP:20260423T171006
CREATED:20230528T183600Z
LAST-MODIFIED:20230602T222502Z
UID:9101-1685869200-1685887200@downtownhydeparkchicago.com
SUMMARY:2023 HPFM Grand Opening
DESCRIPTION:South East Chicago Commission and Special Service Area #61 invite you\, your family and friends to the season grand opening of the Hyde Park Farmers Market on Sunday\, June 4\, 2023 in the Hyde Park Bank parking lot – 1516 E. 54th Street. \nThe Hyde Park Farmers Market is a curated open air shopping experience featuring a variety farm fresh fruits and vegetables\, organic spices\, baked goods\, coffee\, honey\, jams\, soaps\, skincare products\, fresh flowers and more. \n  \nPRESS RELEASE:   \nHYDE PARK FARMERS MARKET GRAND OPENING \nDate:  Sunday\, June 4\, 2023 \nMarket Opens:  9:00 am \nRibbon Cutting:  10:00 am with the Hyde Park Chamber of Commerce \nFamily Activities:  Sponsored by Charter Chang and Hyde Park Art Center \nMusic:  Performance by Uniting Voices Chicago \nGiveaway:  First 50 guests to visit the market booth will receive a complimentary reusable shopping bag appreciation gift. \nSocial:  Facebook | Instagram
URL:https://downtownhydeparkchicago.com/event/2023-hpfm-grand-opening/
LOCATION:Hyde Park Bank Parking Lot\, Chicago\, IL\, 60615\, United States
ATTACH;FMTTYPE=image/png:https://downtownhydeparkchicago.com/wp-content/uploads/2023/05/2023-HPFM-News-Post-Cover-1.png
END:VEVENT
BEGIN:VEVENT
DTSTART;TZID=America/Chicago:20230618T090000
DTEND;TZID=America/Chicago:20230618T140000
DTSTAMP:20260423T171006
CREATED:20230612T155235Z
LAST-MODIFIED:20230612T161210Z
UID:9196-1687078800-1687096800@downtownhydeparkchicago.com
SUMMARY:Hyde Park Farmers Market - June 18
DESCRIPTION:The Hyde Park Farmers Market is a community-oriented market hosted by the South East Chicago Commission (SECC) and Special Service Area #61\, aka Downtown Hyde Park Chicago. \nShoppers are invited to join us for a day of community\, wellness\, and wholesome\, locally-sourced products. \nLocated at 5400 S. Lake Park West in Hyde Park\, Chicago\, the market aims to create a vibrant and sustainable local economy while promoting wellness\, arts\, and cultural diversity. Follow us on Facebook and Instagram for updates and news. \nThe Hyde Park Farmers Market is dedicated to providing a safe and inclusive environment for all visitors and access to fresh and nutritious food offerings. In keeping this mission\, The Hyde Park Farmers Market joins the Link Up Illinois statewide network to provide incentives to SNAP shoppers. A program of Experimental Station\, Link Up Illinois’ mission is to increase the affordability and accessibility of fresh foods by matching the value of Link or SNAP (Supplemental Nutrition Assistance Program) purchases up to $25.00 per transaction across Illinois while making healthy food more affordable for SNAP recipients.
URL:https://downtownhydeparkchicago.com/event/hyde-park-farmers-market-june-18/
LOCATION:Hyde Park Bank Parking Lot\, Chicago\, IL\, 60615\, United States
ATTACH;FMTTYPE=image/jpeg:https://downtownhydeparkchicago.com/wp-content/uploads/2023/06/HPFM2023-shopping.jpg
END:VEVENT
BEGIN:VEVENT
DTSTART;TZID=America/Chicago:20230625T090000
DTEND;TZID=America/Chicago:20230625T140000
DTSTAMP:20260423T171006
CREATED:20230612T161359Z
LAST-MODIFIED:20230612T161359Z
UID:9201-1687683600-1687701600@downtownhydeparkchicago.com
SUMMARY:Hyde Park Farmers Market - June 25
DESCRIPTION:The Hyde Park Farmers Market is a community-oriented market hosted by the South East Chicago Commission (SECC) and Special Service Area #61\, aka Downtown Hyde Park Chicago. \nFeatured Vendor:  Lush Flower Bar  \nShoppers are invited to join us for a day of community\, wellness\, and wholesome\, locally-sourced products. \nLocated at 5400 S. Lake Park West in Hyde Park\, Chicago\, the market aims to create a vibrant and sustainable local economy while promoting wellness\, arts\, and cultural diversity. Follow us on Facebook and Instagram for updates and news. \nThe Hyde Park Farmers Market is dedicated to providing a safe and inclusive environment for all visitors and access to fresh and nutritious food offerings. In keeping this mission\, The Hyde Park Farmers Market joins the Link Up Illinois statewide network to provide incentives to SNAP shoppers. A program of Experimental Station\, Link Up Illinois’ mission is to increase the affordability and accessibility of fresh foods by matching the value of Link or SNAP (Supplemental Nutrition Assistance Program) purchases up to $25.00 per transaction across Illinois while making healthy food more affordable for SNAP recipients.
URL:https://downtownhydeparkchicago.com/event/hyde-park-farmers-market-june-25/
LOCATION:Hyde Park Bank Parking Lot\, Chicago\, IL\, 60615\, United States
ATTACH;FMTTYPE=image/jpeg:https://downtownhydeparkchicago.com/wp-content/uploads/2023/06/HPFM2023-LUSH.jpg
END:VEVENT
END:VCALENDAR