BEGIN:VCALENDAR
VERSION:2.0
PRODID:-//Downtown Hyde Park Chicago - ECPv6.15.20//NONSGML v1.0//EN
CALSCALE:GREGORIAN
METHOD:PUBLISH
X-WR-CALNAME:Downtown Hyde Park Chicago
X-ORIGINAL-URL:https://downtownhydeparkchicago.com
X-WR-CALDESC:Events for Downtown Hyde Park Chicago
REFRESH-INTERVAL;VALUE=DURATION:PT1H
X-Robots-Tag:noindex
X-PUBLISHED-TTL:PT1H
BEGIN:VTIMEZONE
TZID:America/Chicago
BEGIN:DAYLIGHT
TZOFFSETFROM:-0600
TZOFFSETTO:-0500
TZNAME:CDT
DTSTART:20210314T080000
END:DAYLIGHT
BEGIN:STANDARD
TZOFFSETFROM:-0500
TZOFFSETTO:-0600
TZNAME:CST
DTSTART:20211107T070000
END:STANDARD
BEGIN:DAYLIGHT
TZOFFSETFROM:-0600
TZOFFSETTO:-0500
TZNAME:CDT
DTSTART:20220313T080000
END:DAYLIGHT
BEGIN:STANDARD
TZOFFSETFROM:-0500
TZOFFSETTO:-0600
TZNAME:CST
DTSTART:20221106T070000
END:STANDARD
BEGIN:DAYLIGHT
TZOFFSETFROM:-0600
TZOFFSETTO:-0500
TZNAME:CDT
DTSTART:20230312T080000
END:DAYLIGHT
BEGIN:STANDARD
TZOFFSETFROM:-0500
TZOFFSETTO:-0600
TZNAME:CST
DTSTART:20231105T070000
END:STANDARD
END:VTIMEZONE
BEGIN:VEVENT
DTSTART;VALUE=DATE:20221126
DTEND;VALUE=DATE:20221127
DTSTAMP:20260422T073330
CREATED:20221202T061422Z
LAST-MODIFIED:20221202T064019Z
UID:8771-1669420800-1669507199@downtownhydeparkchicago.com
SUMMARY:Small Business Saturday 2022
DESCRIPTION:Small Business Saturday – a day to celebrate and support small businesses and all they do for their communities. Small Business Saturday has become an important part of small businesses’ busiest shopping season. Historically\, reported projected spending among U.S. consumers who shopped at independent retailers and restaurants on Small Business Saturday reached an estimated $19.8 billion according to the 2020 Small Business Saturday Consumer Insights Survey commissioned by American Express. The survey also found that 97% of shoppers recognized the positive impact they can make by shopping small and 85% of them reported they also encouraged friends and family to Shop Small® as well. \n 
URL:https://downtownhydeparkchicago.com/event/small-business-saturday-2022/
LOCATION:IL
ATTACH;FMTTYPE=image/jpeg:https://downtownhydeparkchicago.com/wp-content/uploads/2022/09/033SECC-resized.jpg
END:VEVENT
END:VCALENDAR