BEGIN:VCALENDAR
VERSION:2.0
PRODID:-//Downtown Hyde Park Chicago - ECPv6.15.20//NONSGML v1.0//EN
CALSCALE:GREGORIAN
METHOD:PUBLISH
X-WR-CALNAME:Downtown Hyde Park Chicago
X-ORIGINAL-URL:https://downtownhydeparkchicago.com
X-WR-CALDESC:Events for Downtown Hyde Park Chicago
REFRESH-INTERVAL;VALUE=DURATION:PT1H
X-Robots-Tag:noindex
X-PUBLISHED-TTL:PT1H
BEGIN:VTIMEZONE
TZID:America/Chicago
BEGIN:DAYLIGHT
TZOFFSETFROM:-0600
TZOFFSETTO:-0500
TZNAME:CDT
DTSTART:20230312T080000
END:DAYLIGHT
BEGIN:STANDARD
TZOFFSETFROM:-0500
TZOFFSETTO:-0600
TZNAME:CST
DTSTART:20231105T070000
END:STANDARD
BEGIN:DAYLIGHT
TZOFFSETFROM:-0600
TZOFFSETTO:-0500
TZNAME:CDT
DTSTART:20240310T080000
END:DAYLIGHT
BEGIN:STANDARD
TZOFFSETFROM:-0500
TZOFFSETTO:-0600
TZNAME:CST
DTSTART:20241103T070000
END:STANDARD
BEGIN:DAYLIGHT
TZOFFSETFROM:-0600
TZOFFSETTO:-0500
TZNAME:CDT
DTSTART:20250309T080000
END:DAYLIGHT
BEGIN:STANDARD
TZOFFSETFROM:-0500
TZOFFSETTO:-0600
TZNAME:CST
DTSTART:20251102T070000
END:STANDARD
BEGIN:DAYLIGHT
TZOFFSETFROM:-0600
TZOFFSETTO:-0500
TZNAME:CDT
DTSTART:20260308T080000
END:DAYLIGHT
BEGIN:STANDARD
TZOFFSETFROM:-0500
TZOFFSETTO:-0600
TZNAME:CST
DTSTART:20261101T070000
END:STANDARD
END:VTIMEZONE
BEGIN:VEVENT
DTSTART;TZID=America/Chicago:20250704T110000
DTEND;TZID=America/Chicago:20250704T150000
DTSTAMP:20260423T035748
CREATED:20250613T143503Z
LAST-MODIFIED:20250613T143503Z
UID:10623-1751626800-1751641200@downtownhydeparkchicago.com
SUMMARY:4th on 53rd Parade and Celebration
DESCRIPTION:Celebrate the 4th of July in Chicago’s Hyde Park neighborhood\, with a beloved local tradition going back 33 years – the 4th on 53rd Parade and Free Festival!  \nThe parade kicks off at 11 a.m. with marching bands\, floats\, community groups\, and kids on decorated bikes – with a free festival after the parade from 12-3 p.m. featuring performances\, games\, bouncy houses\, face painting\, magician\, and more! \n• Chicago’s Largest 4th of July Parade \n• 30+ year Tradition \n• Over 5\,000 Attendees \n• March from 55th Street to 53rd Street \n• FREE Post-Parade Festival in Nichols Park \n• FREE Sunday Concert Series July-August \n• Made possible by the generous contributions of Hyde Park organizations\, businesses\, and volunteers
URL:https://downtownhydeparkchicago.com/event/4th-on-53rd-parade-and-celebration/
CATEGORIES:Festival,Summer Events
ATTACH;FMTTYPE=image/png:https://downtownhydeparkchicago.com/wp-content/uploads/2025/06/4th-on-53rd-parade-hyde-park.png
END:VEVENT
BEGIN:VEVENT
DTSTART;TZID=America/Chicago:20250605T180000
DTEND;TZID=America/Chicago:20250605T210000
DTSTAMP:20260423T035748
CREATED:20250602T132055Z
LAST-MODIFIED:20250602T132055Z
UID:10595-1749146400-1749157200@downtownhydeparkchicago.com
SUMMARY:Harper Court Summer Music Series - June 2025
DESCRIPTION:Excited to kick off the Harper Court Summer Music Series featuring Isaiah Collier with DJ Duane Powell!⁠\n⁠\nThursday\, June 5 at 5235 S. Harper Court⁠\n⁠\nIsaiah Collier will play 7-8 p.m. with DJ Duane Powell from 6-7 p.m. and 8-9 p.m.⁠\n⁠\nFuture concerts include:⁠\nThursday\, July 10 – Midnight Sun with DJ Shazam Bangles⁠\nThursday\, August 7 – Megan McNeal with DJ Lady D⁠\nThursday\, September 4 – 2nd Annual Hyde Park Best Steppers Contest with DJ Eric “ET” Taylor⁠\n⁠\nSponsored by the University of Chicago in partnership with The Silver Room.⁠\n⁠\nEnjoy dinner & dessert from Bob’s Pizza\, Daisy’s Po-Boy and Tavern\, Ja’ Grill\, Stan’s Donuts\, Strugglebeard Bakery\, and more.⁠ \n 
URL:https://downtownhydeparkchicago.com/event/harper-court-summer-music-series-june-2025/
LOCATION:Harper Court\, 5235 S. Harper Court\, Chicago\, IL\, 60615\, United States
CATEGORIES:Summer Events
ATTACH;FMTTYPE=image/jpeg:https://downtownhydeparkchicago.com/wp-content/uploads/2025/06/IMG_0368.jpg
END:VEVENT
BEGIN:VEVENT
DTSTART;TZID=America/Chicago:20240720T093000
DTEND;TZID=America/Chicago:20240720T183000
DTSTAMP:20260423T035748
CREATED:20240717T012010Z
LAST-MODIFIED:20240717T013300Z
UID:9981-1721467800-1721500200@downtownhydeparkchicago.com
SUMMARY:Hyde Park Summer Sidewalk Sale
DESCRIPTION:THURSDAY-SATURDAY\, JULY 18-20\nThe Hyde Park Summer Sidewalk Sale at the Hyde Park Shopping Center will be held Thursday-Saturday\, July 18-20 from 9:30 a.m. to 6:30 p.m. Legendary local DJ Duane Powell will be spinning tunes and getting you in the summer shopping mood on Thursday-Saturday from 12-2 p.m. Free parking in the lot.  Be on the lookout for soon-to-open businesses LA BOULANGERIE and MAHARI making an appearance… \nTOYS ET CETERA\n1502 E. 55th Street – Savings of 30-60% off! Last of a kinds\, old friends\, overstock\, shopworn stuff\, and discontinued toy gems! Out on the sidewalk\, prices slashed to the bone\, and yours for a bargain! \nWESLEY’S SHOE CORRAL\n1506 E. 55th Street – Up to 70% savings on women’s clothing tops and bottoms\, men’s and women’s sandals\, running shoes\, dress shoes\, and much more. \nLA BOULANGERIE (COMING SOON!)⁠\n1550 E. 55th Street – La Boulangerie is not yet open\, but staff will be on-site Thursday (10 a.m. to 2 p.m.) and Friday (hours TBD).⁠\n⁠\nMAHARI (COMING SOON!)⁠\n1504 E. 55th Street – Mahari is not yet open\, but restaurant staff will be on-site greeting people and offering samples on Thursday\, Friday\, and Saturday from 12-2 p.m. \n  \n  \n \n 
URL:https://downtownhydeparkchicago.com/event/hyde-park-summer-sidewalk-sale-2/
LOCATION:Hyde Park Shopping Center\, 5450 S Lake Park Ave\, Chicago\, IL\, 60615\, United States
CATEGORIES:Summer Events
ATTACH;FMTTYPE=image/jpeg:https://downtownhydeparkchicago.com/wp-content/uploads/2024/07/hydeparkshoppingcenter.jpg
END:VEVENT
BEGIN:VEVENT
DTSTART;TZID=America/Chicago:20240704T110000
DTEND;TZID=America/Chicago:20240704T150000
DTSTAMP:20260423T035748
CREATED:20240515T161358Z
LAST-MODIFIED:20240628T152336Z
UID:9831-1720090800-1720105200@downtownhydeparkchicago.com
SUMMARY:4th on 53rd Parade and Festival 2024
DESCRIPTION:  \nCelebrate the 4th of July in Chicago’s Hyde Park neighborhood.  This beloved local tradition has been celebrated for 30+ years and never disappoints! \nThe parade kicks off at 11 a.m. with marching bands\, floats\, community groups\, and kids on decorated bikes.  The parade marches through Downtown Hyde Park #SSA61 and finishes up at Nichols Park.  Route Map.  After the parade\, the festival from 12-3 p.m. featuring performances\, games\, bouncy houses\, face painting\, petting zoo\, magician\, and more!
URL:https://downtownhydeparkchicago.com/event/4th-on-53rd-parade-and-festival-2024/
CATEGORIES:Summer Events
ATTACH;FMTTYPE=image/jpeg:https://downtownhydeparkchicago.com/wp-content/uploads/2024/05/4thon53rd_2023_2535-scaled.jpg
END:VEVENT
END:VCALENDAR