BEGIN:VCALENDAR
VERSION:2.0
PRODID:-//Downtown Hyde Park Chicago - ECPv6.15.20//NONSGML v1.0//EN
CALSCALE:GREGORIAN
METHOD:PUBLISH
X-ORIGINAL-URL:https://downtownhydeparkchicago.com
X-WR-CALDESC:Events for Downtown Hyde Park Chicago
REFRESH-INTERVAL;VALUE=DURATION:PT1H
X-Robots-Tag:noindex
X-PUBLISHED-TTL:PT1H
BEGIN:VTIMEZONE
TZID:America/Chicago
BEGIN:DAYLIGHT
TZOFFSETFROM:-0600
TZOFFSETTO:-0500
TZNAME:CDT
DTSTART:20230312T080000
END:DAYLIGHT
BEGIN:STANDARD
TZOFFSETFROM:-0500
TZOFFSETTO:-0600
TZNAME:CST
DTSTART:20231105T070000
END:STANDARD
BEGIN:DAYLIGHT
TZOFFSETFROM:-0600
TZOFFSETTO:-0500
TZNAME:CDT
DTSTART:20240310T080000
END:DAYLIGHT
BEGIN:STANDARD
TZOFFSETFROM:-0500
TZOFFSETTO:-0600
TZNAME:CST
DTSTART:20241103T070000
END:STANDARD
BEGIN:DAYLIGHT
TZOFFSETFROM:-0600
TZOFFSETTO:-0500
TZNAME:CDT
DTSTART:20250309T080000
END:DAYLIGHT
BEGIN:STANDARD
TZOFFSETFROM:-0500
TZOFFSETTO:-0600
TZNAME:CST
DTSTART:20251102T070000
END:STANDARD
END:VTIMEZONE
BEGIN:VEVENT
DTSTART;TZID=America/Chicago:20240408T170000
DTEND;TZID=America/Chicago:20240408T220000
DTSTAMP:20260425T221822
CREATED:20240402T033405Z
LAST-MODIFIED:20240402T033405Z
UID:9748-1712595600-1712613600@downtownhydeparkchicago.com
SUMMARY:NCAA Basketball Championship Watch Party
DESCRIPTION:NCAA Men’s Basketball is a real vibe.  You are invited to Daisy’s Po Boy to watch the game with food\, beverages\, and some fun for the real fans! \nBuy your ticket in advance.  Ticket includes your choice of one cocktail or two beers\, as well as entry into the contest to win FREE Po-Boy sandwiches for a year!** \nDoors open promptly at 5 p.m. \nTip-Off is approximately at 7:20 p.m. \nCome early! Guests must arrive before game tip-off to enter the FREE Po-Boy contest. No entries will be accepted after the game starts. \n** Winner will receive one FREE 6-inch Po-Boy each month for 12 months** \n 
URL:https://downtownhydeparkchicago.com/event/ncaa-basketball-championship-watch-party/
LOCATION:Diasy’s Po Boy and Tavern\, 5215 South Harper Avenue\, Chicago\, IL\, 60615\, United States
CATEGORIES:Social Event
ATTACH;FMTTYPE=image/jpeg:https://downtownhydeparkchicago.com/wp-content/uploads/2024/04/daisys-ncaa-watch-party-2024april8.jpg
END:VEVENT
END:VCALENDAR