BEGIN:VCALENDAR
VERSION:2.0
PRODID:-//Downtown Hyde Park Chicago - ECPv6.15.20//NONSGML v1.0//EN
CALSCALE:GREGORIAN
METHOD:PUBLISH
X-WR-CALNAME:Downtown Hyde Park Chicago
X-ORIGINAL-URL:https://downtownhydeparkchicago.com
X-WR-CALDESC:Events for Downtown Hyde Park Chicago
REFRESH-INTERVAL;VALUE=DURATION:PT1H
X-Robots-Tag:noindex
X-PUBLISHED-TTL:PT1H
BEGIN:VTIMEZONE
TZID:America/Chicago
BEGIN:DAYLIGHT
TZOFFSETFROM:-0600
TZOFFSETTO:-0500
TZNAME:CDT
DTSTART:20240310T080000
END:DAYLIGHT
BEGIN:STANDARD
TZOFFSETFROM:-0500
TZOFFSETTO:-0600
TZNAME:CST
DTSTART:20241103T070000
END:STANDARD
BEGIN:DAYLIGHT
TZOFFSETFROM:-0600
TZOFFSETTO:-0500
TZNAME:CDT
DTSTART:20250309T080000
END:DAYLIGHT
BEGIN:STANDARD
TZOFFSETFROM:-0500
TZOFFSETTO:-0600
TZNAME:CST
DTSTART:20251102T070000
END:STANDARD
BEGIN:DAYLIGHT
TZOFFSETFROM:-0600
TZOFFSETTO:-0500
TZNAME:CDT
DTSTART:20260308T080000
END:DAYLIGHT
BEGIN:STANDARD
TZOFFSETFROM:-0500
TZOFFSETTO:-0600
TZNAME:CST
DTSTART:20261101T070000
END:STANDARD
END:VTIMEZONE
BEGIN:VEVENT
DTSTART;TZID=America/Chicago:20251028T110000
DTEND;TZID=America/Chicago:20251028T123000
DTSTAMP:20260423T140435
CREATED:20250919T133642Z
LAST-MODIFIED:20251023T230403Z
UID:10722-1761649200-1761654600@downtownhydeparkchicago.com
SUMMARY:SSA61 Commissioners Meeting - October 2025
DESCRIPTION:~ Public Notice ~\n\n\nSpecial Service Area 61 – Hyde Park (SSA61) will host two Commissioners meetings on Tuesday\, October 28\, 2025.\nBoth meetings will be held at Polsky Exchange North\, 2nd Floor \n1452 E. 53rd St.\nChicago\, IL 60615\n(Location is subject to change). \n\n11:00 am – Special Meeting Agenda \n11:15 am – Monthly Meeting Agenda \n  \n\n 
URL:https://downtownhydeparkchicago.com/event/ssa61-commissioners-meeting-october-2025/
LOCATION:Polsky Center\, 1452 E. 53rd St.\, Chicago\, IL\, 60615\, United States
CATEGORIES:Commissioners Meetings
ATTACH;FMTTYPE=image/png:https://downtownhydeparkchicago.com/wp-content/uploads/2024/04/ssa61-commissioners-meeting-web.png
END:VEVENT
END:VCALENDAR