BEGIN:VCALENDAR
VERSION:2.0
PRODID:-//Downtown Hyde Park Chicago - ECPv6.15.20//NONSGML v1.0//EN
CALSCALE:GREGORIAN
METHOD:PUBLISH
X-WR-CALNAME:Downtown Hyde Park Chicago
X-ORIGINAL-URL:https://downtownhydeparkchicago.com
X-WR-CALDESC:Events for Downtown Hyde Park Chicago
REFRESH-INTERVAL;VALUE=DURATION:PT1H
X-Robots-Tag:noindex
X-PUBLISHED-TTL:PT1H
BEGIN:VTIMEZONE
TZID:America/Chicago
BEGIN:DAYLIGHT
TZOFFSETFROM:-0600
TZOFFSETTO:-0500
TZNAME:CDT
DTSTART:20230312T080000
END:DAYLIGHT
BEGIN:STANDARD
TZOFFSETFROM:-0500
TZOFFSETTO:-0600
TZNAME:CST
DTSTART:20231105T070000
END:STANDARD
BEGIN:DAYLIGHT
TZOFFSETFROM:-0600
TZOFFSETTO:-0500
TZNAME:CDT
DTSTART:20240310T080000
END:DAYLIGHT
BEGIN:STANDARD
TZOFFSETFROM:-0500
TZOFFSETTO:-0600
TZNAME:CST
DTSTART:20241103T070000
END:STANDARD
BEGIN:DAYLIGHT
TZOFFSETFROM:-0600
TZOFFSETTO:-0500
TZNAME:CDT
DTSTART:20250309T080000
END:DAYLIGHT
BEGIN:STANDARD
TZOFFSETFROM:-0500
TZOFFSETTO:-0600
TZNAME:CST
DTSTART:20251102T070000
END:STANDARD
END:VTIMEZONE
BEGIN:VEVENT
DTSTART;TZID=America/Chicago:20240924T110000
DTEND;TZID=America/Chicago:20240924T120000
DTSTAMP:20260423T081241
CREATED:20240923T183729Z
LAST-MODIFIED:20240923T184753Z
UID:10111-1727175600-1727179200@downtownhydeparkchicago.com
SUMMARY:SSA61 Commissioners Meeting - September 2024
DESCRIPTION:~ Public Notice ~ \nSpecial Service Area 61 – Hyde Park (SSA61) will host a special Commissioners meeting at 11:00 am on Tuesday\, August 27\, 2024.\nThe meeting will be held at Polsky Exchange North\, 2nd Floor \n1452 E. 53rd St.\nChicago\, IL 60615 \n(Location is subject to change). \nDownload the agenda or click for additional details about future meetings. \n—————– \n \n  \n  \n  \n  \n 
URL:https://downtownhydeparkchicago.com/event/ssa61-commissioners-meeting-september-2024/
LOCATION:Polsky Center\, 1452 E. 53rd St.\, Chicago\, IL\, 60615\, United States
CATEGORIES:Commissioners Meetings
ATTACH;FMTTYPE=image/png:https://downtownhydeparkchicago.com/wp-content/uploads/2024/04/ssa61-commissioners-meeting-web.png
END:VEVENT
END:VCALENDAR