BEGIN:VCALENDAR
VERSION:2.0
PRODID:-//Downtown Hyde Park Chicago - ECPv6.15.20//NONSGML v1.0//EN
CALSCALE:GREGORIAN
METHOD:PUBLISH
X-WR-CALNAME:Downtown Hyde Park Chicago
X-ORIGINAL-URL:https://downtownhydeparkchicago.com
X-WR-CALDESC:Events for Downtown Hyde Park Chicago
REFRESH-INTERVAL;VALUE=DURATION:PT1H
X-Robots-Tag:noindex
X-PUBLISHED-TTL:PT1H
BEGIN:VTIMEZONE
TZID:America/Chicago
BEGIN:DAYLIGHT
TZOFFSETFROM:-0600
TZOFFSETTO:-0500
TZNAME:CDT
DTSTART:20230312T080000
END:DAYLIGHT
BEGIN:STANDARD
TZOFFSETFROM:-0500
TZOFFSETTO:-0600
TZNAME:CST
DTSTART:20231105T070000
END:STANDARD
BEGIN:DAYLIGHT
TZOFFSETFROM:-0600
TZOFFSETTO:-0500
TZNAME:CDT
DTSTART:20240310T080000
END:DAYLIGHT
BEGIN:STANDARD
TZOFFSETFROM:-0500
TZOFFSETTO:-0600
TZNAME:CST
DTSTART:20241103T070000
END:STANDARD
BEGIN:DAYLIGHT
TZOFFSETFROM:-0600
TZOFFSETTO:-0500
TZNAME:CDT
DTSTART:20250309T080000
END:DAYLIGHT
BEGIN:STANDARD
TZOFFSETFROM:-0500
TZOFFSETTO:-0600
TZNAME:CST
DTSTART:20251102T070000
END:STANDARD
END:VTIMEZONE
BEGIN:VEVENT
DTSTART;TZID=America/Chicago:20240711T110000
DTEND;TZID=America/Chicago:20240711T120000
DTSTAMP:20260423T111829
CREATED:20240709T142947Z
LAST-MODIFIED:20240709T142947Z
UID:9976-1720695600-1720699200@downtownhydeparkchicago.com
SUMMARY:SSA61 Special Commissioners Meeting - July 2024
DESCRIPTION:~ Public Notice ~ \nSpecial Service Area 61 – Hyde Park (SSA61) will host a special Commissioners meeting at 11:00 am on Thursday\, July 11\, 2024.\nThis meeting has been added to the schedule to approve the 2025 work plan. \nThe meeting will be held at Polsky Exchange North\, 2nd Floor\nChicago\, IL 60615 \n(Location is subject to change). \nAgenda for the special meeting on July 11. \nAll guidelines for public meetings will be enforced.
URL:https://downtownhydeparkchicago.com/event/ssa61-special-commissioners-meeting-july-2024/
LOCATION:Polsky Center\, 1452 E. 53rd St.\, Chicago\, IL\, 60615\, United States
CATEGORIES:Commissioners Meetings
ATTACH;FMTTYPE=image/png:https://downtownhydeparkchicago.com/wp-content/uploads/2024/04/ssa61-commissioners-meeting-web.png
END:VEVENT
BEGIN:VEVENT
DTSTART;TZID=America/Chicago:20240723T110000
DTEND;TZID=America/Chicago:20240723T120000
DTSTAMP:20260423T111829
CREATED:20240718T041629Z
LAST-MODIFIED:20240718T041629Z
UID:10000-1721732400-1721736000@downtownhydeparkchicago.com
SUMMARY:SSA61 Commissioners Meeting - July 2024
DESCRIPTION:~ Public Notice ~ \nSpecial Service Area 61 – Hyde Park (SSA61) will host a special Commissioners meeting at 11:00 am on Tuesday\, July 23\, 2024.\nThe meeting will be held at Polsky Exchange North\, 2nd Floor \n1452 E. 53rd St.\nChicago\, IL 60615 \n(Location is subject to change). \nAgenda for July 23\, 2024 \n  \n 
URL:https://downtownhydeparkchicago.com/event/ssa61-commissioners-meeting-july-2024/
LOCATION:Polsky Center\, 1452 E. 53rd St.\, Chicago\, IL\, 60615\, United States
CATEGORIES:Commissioners Meetings
ATTACH;FMTTYPE=image/png:https://downtownhydeparkchicago.com/wp-content/uploads/2024/04/ssa61-commissioners-meeting-web.png
END:VEVENT
END:VCALENDAR