BEGIN:VCALENDAR
VERSION:2.0
PRODID:-//Downtown Hyde Park Chicago - ECPv6.15.20//NONSGML v1.0//EN
CALSCALE:GREGORIAN
METHOD:PUBLISH
X-ORIGINAL-URL:https://downtownhydeparkchicago.com
X-WR-CALDESC:Events for Downtown Hyde Park Chicago
REFRESH-INTERVAL;VALUE=DURATION:PT1H
X-Robots-Tag:noindex
X-PUBLISHED-TTL:PT1H
BEGIN:VTIMEZONE
TZID:America/Chicago
BEGIN:DAYLIGHT
TZOFFSETFROM:-0600
TZOFFSETTO:-0500
TZNAME:CDT
DTSTART:20230312T080000
END:DAYLIGHT
BEGIN:STANDARD
TZOFFSETFROM:-0500
TZOFFSETTO:-0600
TZNAME:CST
DTSTART:20231105T070000
END:STANDARD
BEGIN:DAYLIGHT
TZOFFSETFROM:-0600
TZOFFSETTO:-0500
TZNAME:CDT
DTSTART:20240310T080000
END:DAYLIGHT
BEGIN:STANDARD
TZOFFSETFROM:-0500
TZOFFSETTO:-0600
TZNAME:CST
DTSTART:20241103T070000
END:STANDARD
BEGIN:DAYLIGHT
TZOFFSETFROM:-0600
TZOFFSETTO:-0500
TZNAME:CDT
DTSTART:20250309T080000
END:DAYLIGHT
BEGIN:STANDARD
TZOFFSETFROM:-0500
TZOFFSETTO:-0600
TZNAME:CST
DTSTART:20251102T070000
END:STANDARD
END:VTIMEZONE
BEGIN:VEVENT
DTSTART;TZID=America/Chicago:20240627T110000
DTEND;TZID=America/Chicago:20240627T123000
DTSTAMP:20260423T125636
CREATED:20240612T190711Z
LAST-MODIFIED:20240625T164711Z
UID:9897-1719486000-1719491400@downtownhydeparkchicago.com
SUMMARY:SSA61 Commissioners Meeting - June 2024
DESCRIPTION:~ Public Notice ~ \nSpecial Service Area 61 – Hyde Park (SSA61) will host its scheduled Commissioners meeting at 11:00 am on Thursday\, June 27\, 2024.\n(This date has been changed from 6/25). \nThe meeting will be held at Polsky Center\, 2nd Floor\nChicago\, IL 60615 \n(Location is subject to change). \nMeeting agenda for the meeting on June 27. \nAll guidelines for public meetings will be enforced. \n——————– \n  \n \n  \n 
URL:https://downtownhydeparkchicago.com/event/ssa61-commissioners-meeting-june-2024/
LOCATION:IL
CATEGORIES:Commissioners Meetings
ATTACH;FMTTYPE=image/png:https://downtownhydeparkchicago.com/wp-content/uploads/2024/04/ssa61-commissioners-meeting-web.png
END:VEVENT
END:VCALENDAR